Workbook

Sheet 収支計画書（総括表）
G1: 様式４
B2: 団体名・共同事業体名 | C2: ●●
B3: 施設名 | C3: 台東デザイナーズビレッジ
A5: 収支計画書（総括表）
B8: 指定管理料提案額 （５年間合計） | C8: =SUM(C13:G13) -> 9199376 | E8: ※172,730,000円を超えないこと
B9: 指定管理料提案額＝指定管理業務経費-利用料収入-共益費-利用者負担額（実費）
B11: 収入
C12: =【区操作】指定期間・物価変動率設定!$C$3 -> 令和10年度 | D12: =【区操作】指定期間・物価変動率設定!$C$4 -> 令和11年度 | E12: =【区操作】指定期間・物価変動率設定!$C$5 -> 令和12年度 | F12: =【区操作】指定期間・物価変動率設定!$C$6 -> 令和13年度 | G12: =【区操作】指定期間・物価変動率設定!$C$7 -> 令和14年度
B13: 指定管理料収入 | C13: =C23-(C14+C15+C16) -> 1628300 | D13: =D23-(D14+D15+D16) -> 1733035 | E13: =E23-(E14+E15+E16) -> 1838817.3 | F13: =F23-(F14+F15+F16) -> 1945657.5 | G13: =G23-(G14+G15+G16) -> 2053566.1
B14: 利用料金収入 | C14: 4546800 | D14: 4546800 | E14: 4546800 | F14: 4546800 | G14: 4546800
B15: 共益費 | C15: 4298400 | D15: 4298400 | E15: 4298400 | F15: 4298400 | G15: 4298400
B16: 利用者負担額（実費相当）
B17: 合計額 | C17: =C23 -> 10473500 | D17: =D23 -> 10578235 | E17: =E23 -> 10684017 | F17: =F23 -> 10790858 | G17: =G23 -> 10898766
B18: ※利用者負担額（実費）は、講座等で参加費等を徴収する場合に計上すること
B20: 支出
B21: 指定管理業務経費 | C21: =①指定管理業務経費計算書!$D$32 -> 10473500 | D21: =①指定管理業務経費計算書!$E$32 -> 10473500 | E21: =①指定管理業務経費計算書!$F$32 -> 10473500 | F21: =①指定管理業務経費計算書!$G$32 -> 10473500 | G21: =①指定管理業務経費計算書!$H$32 -> 10473500
B22: 物価変動率 | C22: =【区操作】指定期間・物価変動率設定!$D$3 -> 0 | D22: =【区操作】指定期間・物価変動率設定!$D$4 -> 0.01 | E22: =【区操作】指定期間・物価変動率設定!$D$5 -> 0.01 | F22: =【区操作】指定期間・物価変動率設定!$D$6 -> 0.01 | G22: =【区操作】指定期間・物価変動率設定!$D$7 -> 0.01
B23: 合計額 | C23: =C21*(1+C22) -> 10473500 | D23: =D21*(1+C22)*(1+D22) -> 10578235 | E23: =E21*(1+C22)*(1+D22)*(1+E22) -> 10684017 | F23: =F21*(1+C22)*(1+D22)*(1+E22)*(1+F22) -> 10790858 | G23: =G21*(1+C22)*(1+D22)*(1+E22)*(1+F22)*(1+G22) -> 10898766
B27: （別紙）
B28: ①指定管理業務経費計算書
B29: ②自主事業内訳書（提案がある場合のみ提出）

Sheet ①指定管理業務経費計算書
H1: 別紙①
B2: 団体名・共同事業体名 | C2: ='収支計画書（総括表）'!C2 -> ●●
B3: 施設名 | C3: ='収支計画書（総括表）'!C3 -> 台東デザイナーズビレッジ
B5: 指定管理業務経費計算書
H7: (単位：円）
B8: 経費費目 | D8: =【区操作】指定期間・物価変動率設定!$C$3 -> 令和10年度 | E8: =【区操作】指定期間・物価変動率設定!$C$4 -> 令和11年度 | F8: =【区操作】指定期間・物価変動率設定!$C$5 -> 令和12年度 | G8: =【区操作】指定期間・物価変動率設定!$C$6 -> 令和13年度 | H8: =【区操作】指定期間・物価変動率設定!$C$7 -> 令和14年度
B28: 光熱水費 | D28: 3915000 | E28: 3915000 | F28: 3915000 | G28: 3915000 | H28: 3915000
B29: 修繕費 | D29: 100000 | E29: 100000 | F29: 100000 | G29: 100000 | H29: 100000
B30: 消費税 | D30: =SUM(D9:D29)*0.1 -> 401500 | E30: =SUM(E9:E29)*0.1 -> 401500 | F30: =SUM(F9:F29)*0.1 -> 401500 | G30: =SUM(G9:G29)*0.1 -> 401500 | H30: =SUM(H9:H29)*0.1 -> 401500
B31: 建物全体維持管理業務経費（分担金） | D31: 6057000 | E31: 6057000 | F31: 6057000 | G31: 6057000 | H31: 6057000
C32: 合計額 | D32: =SUM(D9:D31) -> 10473500 | E32: =SUM(E9:E31) -> 10473500 | F32: =SUM(F9:F31) -> 10473500 | G32: =SUM(G9:G31) -> 10473500 | H32: =SUM(H9:H31) -> 10473500
B36: ※本様式の積算にあたっては、物価変動率を考慮しないこと
B37: ※税抜き金額を入力すること
B38: ※本様式は指定管理業務に係るものを計上し、自主事業に係る経費は計上しないこと
B39: ※本部経費を計上する場合は、人件費の5％を超えない範囲で計上すること。
B40: ※行が不足する場合は適宜追加すること

Sheet ②自主事業等内訳書（提案がある場合のみ提出）
G1: 別紙②
B2: 団体名・共同事業体名 | C2: ='収支計画書（総括表）'!C2 -> ●●
B3: 施設名 | C3: ='収支計画書（総括表）'!C3 -> 台東デザイナーズビレッジ
B5: 自主事業等内訳書
B8: 収入 | G8: (単位：円）
B9: 事業名 | C9: =【区操作】指定期間・物価変動率設定!$C$3 -> 令和10年度 | D9: =【区操作】指定期間・物価変動率設定!$C$4 -> 令和11年度 | E9: =【区操作】指定期間・物価変動率設定!$C$5 -> 令和12年度 | F9: =【区操作】指定期間・物価変動率設定!$C$6 -> 令和13年度 | G9: =【区操作】指定期間・物価変動率設定!$C$7 -> 令和14年度
B16: 合計額 | C16: =SUM(C10:C15) -> 0 | D16: =SUM(D10:D15) -> 0 | E16: =SUM(E10:E15) -> 0 | F16: =SUM(F10:F15) -> 0 | G16: =SUM(G10:G15) -> 0
B18: 支出 | G18: (単位：円）
B19: 事業名 | C19: =【区操作】指定期間・物価変動率設定!$C$3 -> 令和10年度 | D19: =【区操作】指定期間・物価変動率設定!$C$4 -> 令和11年度 | E19: =【区操作】指定期間・物価変動率設定!$C$5 -> 令和12年度 | F19: =【区操作】指定期間・物価変動率設定!$C$6 -> 令和13年度 | G19: =【区操作】指定期間・物価変動率設定!$C$7 -> 令和14年度
B26: 合計額 | C26: =SUM(C20:C25) -> 0 | D26: =SUM(D20:D25) -> 0 | E26: =SUM(E20:E25) -> 0 | F26: =SUM(F20:F25) -> 0 | G26: =SUM(G20:G25) -> 0
B29: ※行が不足する場合は適宜追加すること

Sheet 【区操作】指定期間・物価変動率設定
C2: 指定期間 | D2: 物価変動率
B3: 1 | C3: 令和10年度 | D3: 0
B4: 2 | C4: 令和11年度 | D4: 0.01
B5: 3 | C5: 令和12年度 | D5: 0.01
B6: 4 | C6: 令和13年度 | D6: 0.01
B7: 5 | C7: 令和14年度 | D7: 0.01
