Workbook

Sheet 収支計画書（総括表）
G1: 様式４
B2: 団体名・共同事業体名 | C2: ●●
B3: 施設名 | C3: 産業交流施設
A5: 収支計画書（総括表）
B8: 指定管理料提案額 （５年間合計） | C8: =SUM(C13:G13) -> 31096747 | E8: ※260,315,000円を超えないこと
B9: 指定管理料提案額＝指定管理業務経費-利用料収入-利用者負担額（実費）-分担金
B11: 収入
C12: =【区操作】指定期間・物価変動率設定!$C$3 -> 令和10年度 | D12: =【区操作】指定期間・物価変動率設定!$C$4 -> 令和11年度 | E12: =【区操作】指定期間・物価変動率設定!$C$5 -> 令和12年度 | F12: =【区操作】指定期間・物価変動率設定!$C$6 -> 令和13年度 | G12: =【区操作】指定期間・物価変動率設定!$C$7 -> 令和14年度
B13: 指定管理料収入 | C13: =C24-(C14+C15+C16) -> 6096200 | D13: =D24-(D14+D15+D16) -> 6157162 | E13: =E24-(E14+E15+E16) -> 6218733.6 | F13: =F24-(F14+F15+F16) -> 6280921 | G13: =G24-(G14+G15+G16) -> 6343730.2
B14: 利用料金収入
B15: 利用者負担額（実費相当）
B16: 分担金（建物全体維持管理） | C16: =②建物全体維持管理業務経費計算書!D56 -> 0 | D16: =②建物全体維持管理業務経費計算書!E56*(1+C23)*(1+D23) -> 0 | E16: =②建物全体維持管理業務経費計算書!F56*(1+C23)*(1+D23)*(1+E23) -> 0 | F16: =②建物全体維持管理業務経費計算書!G56*(1+C23)*(1+D23)*(1+E23)*(1+F23) -> 0 | G16: =②建物全体維持管理業務経費計算書!H56*(1+C23)*(1+D23)*(1+E23)*(1+F23)*(1+G23) -> 0
B17: 合計額 | C17: =C24 -> 6096200 | D17: =D24 -> 6157162 | E17: =E24 -> 6218733.6 | F17: =F24 -> 6280921 | G17: =G24 -> 6343730.2
B18: ※利用者負担額（実費）は、講座等で参加費等を徴収する場合に計上すること
B20: 支出
C21: =【区操作】指定期間・物価変動率設定!$C$3 -> 令和10年度 | D21: =【区操作】指定期間・物価変動率設定!$C$4 -> 令和11年度 | E21: =【区操作】指定期間・物価変動率設定!$C$5 -> 令和12年度 | F21: =【区操作】指定期間・物価変動率設定!$C$6 -> 令和13年度 | G21: =【区操作】指定期間・物価変動率設定!$C$7 -> 令和14年度
B22: 指定管理業務経費 | C22: =①指定管理業務経費計算書!D31 -> 6096200 | D22: =①指定管理業務経費計算書!E31 -> 6096200 | E22: =①指定管理業務経費計算書!F31 -> 6096200 | F22: =①指定管理業務経費計算書!G31 -> 6096200 | G22: =①指定管理業務経費計算書!H31 -> 6096200
B23: 物価変動率 | C23: =【区操作】指定期間・物価変動率設定!$D$3 -> 0 | D23: =【区操作】指定期間・物価変動率設定!$D$4 -> 0.01 | E23: =【区操作】指定期間・物価変動率設定!$D$5 -> 0.01 | F23: =【区操作】指定期間・物価変動率設定!$D$6 -> 0.01 | G23: =【区操作】指定期間・物価変動率設定!$D$7 -> 0.01
B24: 合計額 | C24: =C22*(1+C23) -> 6096200 | D24: =D22*(1+C23)*(1+D23) -> 6157162 | E24: =E22*(1+C23)*(1+D23)*(1+E23) -> 6218733.6 | F24: =F22*(1+C23)*(1+D23)*(1+E23)*(1+F23) -> 6280921 | G24: =G22*(1+C23)*(1+D23)*(1+E23)*(1+F23)*(1+G23) -> 6343730.2
B27: （別紙）
B28: ①指定管理業務経費計算書
B29: ②建物全体維持管理業務経費計算書
B30: ③利用料金収入及び利用者負担額の積算内訳（任意様式）
B31: ④自主事業内訳書（提案がある場合のみ提出）

Sheet ①指定管理業務経費計算書
H1: 別紙①
B2: 団体名・共同事業体名 | C2: ='収支計画書（総括表）'!C2 -> ●●
B3: 施設名 | C3: ='収支計画書（総括表）'!C3 -> 産業交流施設
B5: 指定管理業務経費計算書
H7: (単位：円）
B8: 経費費目 | D8: =【区操作】指定期間・物価変動率設定!$C$3 -> 令和10年度 | E8: =【区操作】指定期間・物価変動率設定!$C$4 -> 令和11年度 | F8: =【区操作】指定期間・物価変動率設定!$C$5 -> 令和12年度 | G8: =【区操作】指定期間・物価変動率設定!$C$6 -> 令和13年度 | H8: =【区操作】指定期間・物価変動率設定!$C$7 -> 令和14年度
B26: 建物全体維持管理業務経費 | C26: 建物全体にかかる経費 | D26: =②建物全体維持管理業務経費計算書!D22 -> 0 | E26: =②建物全体維持管理業務経費計算書!E22 -> 0 | F26: =②建物全体維持管理業務経費計算書!F22 -> 0 | G26: =②建物全体維持管理業務経費計算書!G22 -> 0 | H26: =②建物全体維持管理業務経費計算書!H22 -> 0
C27: 清掃業務（一部除外） | D27: =②建物全体維持管理業務経費計算書!D41 -> 0 | E27: =②建物全体維持管理業務経費計算書!E41 -> 0 | F27: =②建物全体維持管理業務経費計算書!F41 -> 0 | G27: =②建物全体維持管理業務経費計算書!G41 -> 0 | H27: =②建物全体維持管理業務経費計算書!H41 -> 0
B28: 光熱水費 | D28: 5042000 | E28: 5042000 | F28: 5042000 | G28: 5042000 | H28: 5042000
B29: 修繕費 | D29: 500000 | E29: 500000 | F29: 500000 | G29: 500000 | H29: 500000
B30: 消費税 | D30: =SUM(D9:D29)*0.1 -> 554200 | E30: =SUM(E9:E29)*0.1 -> 554200 | F30: =SUM(F9:F29)*0.1 -> 554200 | G30: =SUM(G9:G29)*0.1 -> 554200 | H30: =SUM(H9:H29)*0.1 -> 554200
B31: 合計額 | D31: =SUM(D9:D29)+D30 -> 6096200 | E31: =SUM(E9:E29)+E30 -> 6096200 | F31: =SUM(F9:F29)+F30 -> 6096200 | G31: =SUM(G9:G29)+G30 -> 6096200 | H31: =SUM(H9:H29)+H30 -> 6096200
B34: 令和10年度の特定公契約対象業務従事者の最も低い賃金単価
C35: 円（1時間あたり）
B37: ※本様式の積算にあたっては、物価変動率を考慮しないこと
B38: ※税抜き金額を入力すること
B39: ※本様式は指定管理業務に係るものを計上し、自主事業に係る経費は計上しないこと
B40: ※本部経費を計上する場合は、人件費の5％を超えない範囲で計上すること。
B41: ※行が不足する場合は適宜追加すること

Sheet ②建物全体維持管理業務経費計算書
H1: 別紙②
B2: 団体名・共同事業体名 | C2: ='収支計画書（総括表）'!C2 -> ●●
B3: 施設名 | C3: ='収支計画書（総括表）'!C3 -> 産業交流施設
B5: 建物全体維持管理業務経費計算書
B7: ①建物全体にかかる経費 ※業務基準書P9～13参照 | H7: (単位：円）
B8: 経費費目 | D8: =【区操作】指定期間・物価変動率設定!$C$3 -> 令和10年度 | E8: =【区操作】指定期間・物価変動率設定!$C$4 -> 令和11年度 | F8: =【区操作】指定期間・物価変動率設定!$C$5 -> 令和12年度 | G8: =【区操作】指定期間・物価変動率設定!$C$6 -> 令和13年度 | H8: =【区操作】指定期間・物価変動率設定!$C$7 -> 令和14年度
B9: 項目 | C9: 詳細
B22: 合計額 | D22: =SUM(D10:D21) -> 0 | E22: =SUM(E10:E21) -> 0 | F22: =SUM(F10:F21) -> 0 | G22: =SUM(G10:G21) -> 0 | H22: =SUM(H10:H21) -> 0
B23: ※清掃業務は以下の②に計上
B25: 建物全体にかかる経費（面積按分後の経費） | H25: (単位：円）
B26: 区分 | C26: 面積 | D26: =【区操作】指定期間・物価変動率設定!$C$3 -> 令和10年度 | E26: =【区操作】指定期間・物価変動率設定!$C$4 -> 令和11年度 | F26: =【区操作】指定期間・物価変動率設定!$C$5 -> 令和12年度 | G26: =【区操作】指定期間・物価変動率設定!$C$6 -> 令和13年度 | H26: =【区操作】指定期間・物価変動率設定!$C$7 -> 令和14年度
B27: 交流機能 | C27: 1045 | D27: =C27/C$31*D$22 -> 0 | E27: =C27/C$31*E$22 -> 0 | F27: =C27/C$31*F$22 -> 0 | G27: =C27/C$31*G$22 -> 0 | H27: =C27/C$31*H$22 -> 0
B28: 創業支援 | C28: 827 | D28: =C28/C$31*D$22 -> 0 | E28: =C28/C$31*E$22 -> 0 | F28: =C28/C$31*F$22 -> 0 | G28: =C28/C$31*G$22 -> 0 | H28: =C28/C$31*H$22 -> 0
B29: 中小企業支援（区含む） | C29: 803 | D29: =C29/C$31*D$22 -> 0 | E29: =C29/C$31*E$22 -> 0 | F29: =C29/C$31*F$22 -> 0 | G29: =C29/C$31*G$22 -> 0 | H29: =C29/C$31*H$22 -> 0
B30: カフェ | C30: 89.78 | D30: =C30/C$31*D$22 -> 0 | E30: =C30/C$31*E$22 -> 0 | F30: =C30/C$31*F$22 -> 0 | G30: =C30/C$31*G$22 -> 0 | H30: =C30/C$31*H$22 -> 0
C31: =SUM(C27:C30) -> 2764.78
B34: ②清掃業務経費（台東デザイナーズビレッジのアトリエ内、カフェエリアを除く） ※業務基準書P12（9）参照 | H34: (単位：円）
B35: 経費費目 | D35: =【区操作】指定期間・物価変動率設定!$C$3 -> 令和10年度 | E35: =【区操作】指定期間・物価変動率設定!$C$4 -> 令和11年度 | F35: =【区操作】指定期間・物価変動率設定!$C$5 -> 令和12年度 | G35: =【区操作】指定期間・物価変動率設定!$C$6 -> 令和13年度 | H35: =【区操作】指定期間・物価変動率設定!$C$7 -> 令和14年度
B36: 項目 | C36: 詳細
B41: 合計額 | D41: =SUM(D37:D40) -> 0 | E41: =SUM(E37:E40) -> 0 | F41: =SUM(F37:F40) -> 0 | G41: =SUM(G37:G40) -> 0 | H41: =SUM(H37:H40) -> 0
B43: 清掃業務（面積按分後の経費） | H43: (単位：円）
B44: 区分 | C44: 面積 | D44: =【区操作】指定期間・物価変動率設定!$C$3 -> 令和10年度 | E44: =【区操作】指定期間・物価変動率設定!$C$4 -> 令和11年度 | F44: =【区操作】指定期間・物価変動率設定!$C$5 -> 令和12年度 | G44: =【区操作】指定期間・物価変動率設定!$C$6 -> 令和13年度 | H44: =【区操作】指定期間・物価変動率設定!$C$7 -> 令和14年度
B45: 交流機能 | C45: 1045 | D45: =C45/C$49*D$41 -> 0 | E45: =C45/C$49*E$41 -> 0 | F45: =C45/C$49*F$41 -> 0 | G45: =C45/C$49*G$41 -> 0 | H45: =C45/C$49*H$41 -> 0
B46: 創業支援 （アトリエ対象外） | C46: 278 | D46: =C46/C$49*D$41 -> 0 | E46: =C46/C$49*E$41 -> 0 | F46: =C46/C$49*F$41 -> 0 | G46: =C46/C$49*G$41 -> 0 | H46: =C46/C$49*H$41 -> 0
B47: 中小企業支援（区含む） | C47: 803 | D47: =C47/C$49*D$41 -> 0 | E47: =C47/C$49*E$41 -> 0 | F47: =C47/C$49*F$41 -> 0 | G47: =C47/C$49*G$41 -> 0 | H47: =C47/C$49*H$41 -> 0
B48: カフェ（対象外） | C48: 0 | D48: =C48/C$49*D$41 -> 0 | E48: =C48/C$49*E$41 -> 0 | F48: =C48/C$49*F$41 -> 0 | G48: =C48/C$49*G$41 -> 0 | H48: =C48/C$49*H$41 -> 0
C49: =SUM(C45:C48) -> 2126
B52: 【分担金】※税込
B53: 区分 | D53: =【区操作】指定期間・物価変動率設定!$C$3 -> 令和10年度 | E53: =【区操作】指定期間・物価変動率設定!$C$4 -> 令和11年度 | F53: =【区操作】指定期間・物価変動率設定!$C$5 -> 令和12年度 | G53: =【区操作】指定期間・物価変動率設定!$C$6 -> 令和13年度 | H53: =【区操作】指定期間・物価変動率設定!$C$7 -> 令和14年度
B54: 建物全体にかかる経費 | D54: =SUM(D28:D30)*1.1 -> 0 | E54: =SUM(E28:E30)*1.1 -> 0 | F54: =SUM(F28:F30)*1.1 -> 0 | G54: =SUM(G28:G30)*1.1 -> 0 | H54: =SUM(H28:H30)*1.1 -> 0
B55: 清掃業務 | D55: =SUM(D46:D47)*1.1 -> 0 | E55: =SUM(E46:E47)*1.1 -> 0 | F55: =SUM(F46:F47)*1.1 -> 0 | G55: =SUM(G46:G47)*1.1 -> 0 | H55: =SUM(H46:H47)*1.1 -> 0
B56: 合計値 | D56: =SUM(D54:D55) -> 0 | E56: =SUM(E54:E55) -> 0 | F56: =SUM(F54:F55) -> 0 | G56: =SUM(G54:G55) -> 0 | H56: =SUM(H54:H55) -> 0
B58: ※本様式の積算にあたっては、物価変動率を考慮しないこと
B59: ※税抜き金額を入力すること

Sheet ③利用料金収入及び利用者負担額の積算内訳（任意様式）
A1: ③利用料金収入及び利用者負担額の積算内訳（任意様式） | I1: 別紙③

Sheet ④自主事業等内訳書（提案がある場合のみ提出）
G1: 別紙④
B2: 団体名・共同事業体名 | C2: ='収支計画書（総括表）'!C2 -> ●●
B3: 施設名 | C3: ='収支計画書（総括表）'!C3 -> 産業交流施設
B5: 自主事業等内訳書
B8: 収入 | G8: (単位：円）
B9: 事業名 | C9: =【区操作】指定期間・物価変動率設定!$C$3 -> 令和10年度 | D9: =【区操作】指定期間・物価変動率設定!$C$4 -> 令和11年度 | E9: =【区操作】指定期間・物価変動率設定!$C$5 -> 令和12年度 | F9: =【区操作】指定期間・物価変動率設定!$C$6 -> 令和13年度 | G9: =【区操作】指定期間・物価変動率設定!$C$7 -> 令和14年度
B16: 合計額 | C16: =SUM(C10:C15) -> 0 | D16: =SUM(D10:D15) -> 0 | E16: =SUM(E10:E15) -> 0 | F16: =SUM(F10:F15) -> 0 | G16: =SUM(G10:G15) -> 0
B18: 支出 | G18: (単位：円）
B19: 事業名 | C19: =【区操作】指定期間・物価変動率設定!$C$3 -> 令和10年度 | D19: =【区操作】指定期間・物価変動率設定!$C$4 -> 令和11年度 | E19: =【区操作】指定期間・物価変動率設定!$C$5 -> 令和12年度 | F19: =【区操作】指定期間・物価変動率設定!$C$6 -> 令和13年度 | G19: =【区操作】指定期間・物価変動率設定!$C$7 -> 令和14年度
B26: 合計額 | C26: =SUM(C20:C25) -> 0 | D26: =SUM(D20:D25) -> 0 | E26: =SUM(E20:E25) -> 0 | F26: =SUM(F20:F25) -> 0 | G26: =SUM(G20:G25) -> 0
B29: ※行が不足する場合は適宜追加すること

Sheet 【区操作】指定期間・物価変動率設定
C2: 指定期間 | D2: 物価変動率
B3: 1 | C3: 令和10年度 | D3: 0
B4: 2 | C4: 令和11年度 | D4: 0.01
B5: 3 | C5: 令和12年度 | D5: 0.01
B6: 4 | C6: 令和13年度 | D6: 0.01
B7: 5 | C7: 令和14年度 | D7: 0.01
